BEGIN:VCALENDAR
VERSION:2.0
PRODID:-//Plone.org//NONSGML plone.app.event//EN
X-WR-TIMEZONE:Europe/Madrid
BEGIN:VEVENT
SUMMARY:Big Band del Conservatorio Superior de Música Manuel Castillo de 
 Sevilla
DTSTART;TZID=Europe/Madrid;VALUE=DATE-TIME:20240406T200000
DTEND;TZID=Europe/Madrid;VALUE=DATE-TIME:20240406T210000
DTSTAMP;VALUE=DATE-TIME:20260420T113049Z
UID:0ce37ffe30004ab7b976b52afdd9b1c6@icas.sevilla.org
CATEGORIES:CSMS MANUEL CASTILLO
CREATED;VALUE=DATE-TIME:20231130T132557Z
DESCRIPTION:Conservatorio Superior de Música Manuel Castillo
LAST-MODIFIED;VALUE=DATE-TIME:20240315T134730Z
URL:https://icas.sevilla.org/espacios/espacio-turina/agenda/big-band-del-c
 onservatorio-superior-de-musica-manuel-castillo-de-sevilla
END:VEVENT
BEGIN:VTIMEZONE
TZID:Europe/Madrid
X-LIC-LOCATION:Europe/Madrid
BEGIN:DAYLIGHT
DTSTART;VALUE=DATE-TIME:20240331T030000
TZNAME:CEST
TZOFFSETFROM:+0100
TZOFFSETTO:+0200
END:DAYLIGHT
END:VTIMEZONE
END:VCALENDAR
