BEGIN:VCALENDAR
VERSION:2.0
PRODID:-//Plone.org//NONSGML plone.app.event//EN
X-WR-TIMEZONE:Europe/Madrid
BEGIN:VEVENT
SUMMARY:Bohemios
DTSTART;TZID=Europe/Madrid;VALUE=DATE-TIME:20240525T200000
DTEND;TZID=Europe/Madrid;VALUE=DATE-TIME:20240525T210000
DTSTAMP;VALUE=DATE-TIME:20260425T163727Z
UID:0f859338962c42cfb77e5a319a4ac721@icas.sevilla.org
CATEGORIES:Música vocal
CREATED;VALUE=DATE-TIME:20231201T111134Z
DESCRIPTION:Compañía Sevillana de Zarzuela. Temporada 2023-24.
LAST-MODIFIED;VALUE=DATE-TIME:20231218T110704Z
URL:https://icas.sevilla.org/espacios/espacio-turina/agenda/bohemios-2
END:VEVENT
BEGIN:VTIMEZONE
TZID:Europe/Madrid
X-LIC-LOCATION:Europe/Madrid
BEGIN:DAYLIGHT
DTSTART;VALUE=DATE-TIME:20240331T030000
TZNAME:CEST
TZOFFSETFROM:+0100
TZOFFSETTO:+0200
END:DAYLIGHT
END:VTIMEZONE
END:VCALENDAR
