BEGIN:VCALENDAR
VERSION:2.0
PRODID:-//Plone.org//NONSGML plone.app.event//EN
X-WR-TIMEZONE:Europe/Madrid
BEGIN:VEVENT
SUMMARY:Carta Blanca ASAO. Jóvenes Talentos
DTSTART;TZID=Europe/Madrid;VALUE=DATE-TIME:20220505T200000
DTEND;TZID=Europe/Madrid;VALUE=DATE-TIME:20220505T213000
DTSTAMP;VALUE=DATE-TIME:20260423T172422Z
UID:5652ad8418cc496d9756d4743a27d2fe@icas.sevilla.org
CATEGORIES:Música vocal
CREATED;VALUE=DATE-TIME:20220915T104104Z
DESCRIPTION:Recitales líricos Espacio Turina-ASAO
LAST-MODIFIED;VALUE=DATE-TIME:20231011T100611Z
LOCATION:Sala Silvio. Espacio Turina.
URL:https://icas.sevilla.org/espacios/espacio-turina/agenda/carta-blanca-a
 sao-jovenes-talentos
END:VEVENT
BEGIN:VTIMEZONE
TZID:Europe/Madrid
X-LIC-LOCATION:Europe/Madrid
BEGIN:DAYLIGHT
DTSTART;VALUE=DATE-TIME:20220327T030000
TZNAME:CEST
TZOFFSETFROM:+0100
TZOFFSETTO:+0200
END:DAYLIGHT
END:VTIMEZONE
END:VCALENDAR
