BEGIN:VCALENDAR
VERSION:2.0
PRODID:-//Plone.org//NONSGML plone.app.event//EN
X-WR-TIMEZONE:Europe/Madrid
BEGIN:VEVENT
SUMMARY:'Chillar todo el día\, ópera experimental'. Proyecto Ocnos
DTSTART;TZID=Europe/Madrid;VALUE=DATE-TIME:20211105T200000
DTEND;TZID=Europe/Madrid;VALUE=DATE-TIME:20211105T213000
DTSTAMP;VALUE=DATE-TIME:20260425T191216Z
UID:69c7d06cbdf044c1b1642b6e9c756cfe@icas.sevilla.org
CATEGORIES:Ópera
CREATED;VALUE=DATE-TIME:20210901T125236Z
LAST-MODIFIED;VALUE=DATE-TIME:20231011T100608Z
URL:https://icas.sevilla.org/espacios/espacio-turina/agenda/chillar-todo-e
 l-dia-opera-experimental-proyecto-ocnos
END:VEVENT
BEGIN:VTIMEZONE
TZID:Europe/Madrid
X-LIC-LOCATION:Europe/Madrid
BEGIN:STANDARD
DTSTART;VALUE=DATE-TIME:20211031T020000
TZNAME:CET
TZOFFSETFROM:+0200
TZOFFSETTO:+0100
END:STANDARD
END:VTIMEZONE
END:VCALENDAR
