BEGIN:VCALENDAR
VERSION:2.0
PRODID:-//Plone.org//NONSGML plone.app.event//EN
X-WR-TIMEZONE:Europe/Madrid
BEGIN:VEVENT
SUMMARY:Cómo subir una escalera sin peldaños
DTSTART;TZID=Europe/Madrid;VALUE=DATE-TIME:20240427T200000
DTEND;TZID=Europe/Madrid;VALUE=DATE-TIME:20240427T210000
DTSTAMP;VALUE=DATE-TIME:20260421T122434Z
UID:64d9bad25c9243f8a5fdd43110397eef@icas.sevilla.org
CATEGORIES:DXM (Drama y música)
CREATED;VALUE=DATE-TIME:20231130T135737Z
DESCRIPTION:D X M (Drama X Música). Foto-teatro musical. XIII Festival En
 cuentros Sonoros
LAST-MODIFIED;VALUE=DATE-TIME:20240110T093425Z
URL:https://icas.sevilla.org/espacios/espacio-turina/agenda/como-subir-una
 -escalera-sin-peldanos
END:VEVENT
BEGIN:VTIMEZONE
TZID:Europe/Madrid
X-LIC-LOCATION:Europe/Madrid
BEGIN:DAYLIGHT
DTSTART;VALUE=DATE-TIME:20240331T030000
TZNAME:CEST
TZOFFSETFROM:+0100
TZOFFSETTO:+0200
END:DAYLIGHT
END:VTIMEZONE
END:VCALENDAR
