BEGIN:VCALENDAR
VERSION:2.0
PRODID:-//Plone.org//NONSGML plone.app.event//EN
X-WR-TIMEZONE:Europe/Madrid
BEGIN:VEVENT
SUMMARY:Concerto de Cavalieri & Samuel Mariño
DTSTART;TZID=Europe/Madrid;VALUE=DATE-TIME:20240223T200000
DTEND;TZID=Europe/Madrid;VALUE=DATE-TIME:20240223T210000
DTSTAMP;VALUE=DATE-TIME:20260419T230847Z
UID:2dc4a3194ed94070818df816c9753836@icas.sevilla.org
CATEGORIES:Música Antigua
CREATED;VALUE=DATE-TIME:20231130T113300Z
DESCRIPTION:Música Antigua en Turina
LAST-MODIFIED;VALUE=DATE-TIME:20231130T113719Z
URL:https://icas.sevilla.org/espacios/espacio-turina/agenda/concerto-de-ca
 valieri-samuel-marino
END:VEVENT
BEGIN:VTIMEZONE
TZID:Europe/Madrid
X-LIC-LOCATION:Europe/Madrid
BEGIN:STANDARD
DTSTART;VALUE=DATE-TIME:20231029T020000
TZNAME:CET
TZOFFSETFROM:+0200
TZOFFSETTO:+0100
END:STANDARD
END:VTIMEZONE
END:VCALENDAR
