BEGIN:VCALENDAR
VERSION:2.0
PRODID:-//Plone.org//NONSGML plone.app.event//EN
X-WR-TIMEZONE:Europe/Madrid
BEGIN:VEVENT
SUMMARY:Chateau Margot. Compañía Sevillana de Zarzuela
DTSTART;TZID=Europe/Madrid;VALUE=DATE-TIME:20210529T120000
DTEND;TZID=Europe/Madrid;VALUE=DATE-TIME:20210529T133000
DTSTAMP;VALUE=DATE-TIME:20260425T233238Z
UID:b891bc8a84fa428481573af6e5f75d3c@icas.sevilla.org
CATEGORIES:Zarzuela
CREATED;VALUE=DATE-TIME:20210413T153418Z
LAST-MODIFIED;VALUE=DATE-TIME:20231011T100607Z
LOCATION:Espacio Turina
URL:https://icas.sevilla.org/espacios/espacio-turina/agenda/copy_of_chatea
 u-margot-compania-sevillana-de-zarzuela
END:VEVENT
BEGIN:VTIMEZONE
TZID:Europe/Madrid
X-LIC-LOCATION:Europe/Madrid
BEGIN:DAYLIGHT
DTSTART;VALUE=DATE-TIME:20210328T030000
TZNAME:CEST
TZOFFSETFROM:+0100
TZOFFSETTO:+0200
END:DAYLIGHT
END:VTIMEZONE
END:VCALENDAR
