BEGIN:VCALENDAR
VERSION:2.0
PRODID:-//Plone.org//NONSGML plone.app.event//EN
X-WR-TIMEZONE:Europe/Madrid
BEGIN:VEVENT
SUMMARY:Cosmos Quartet
DTSTART;TZID=Europe/Madrid;VALUE=DATE-TIME:20240202T200000
DTEND;TZID=Europe/Madrid;VALUE=DATE-TIME:20240202T210000
DTSTAMP;VALUE=DATE-TIME:20260420T131928Z
UID:40f5aa35772b461a8b68dc2d8a476162@icas.sevilla.org
CATEGORIES:Música de Cámara
CREATED;VALUE=DATE-TIME:20231130T094123Z
DESCRIPTION:Música de Cámara. Cuartetos de cuerda en Turina.
LAST-MODIFIED;VALUE=DATE-TIME:20231130T122859Z
URL:https://icas.sevilla.org/espacios/espacio-turina/agenda/cosmos-quartet
END:VEVENT
BEGIN:VTIMEZONE
TZID:Europe/Madrid
X-LIC-LOCATION:Europe/Madrid
BEGIN:STANDARD
DTSTART;VALUE=DATE-TIME:20231029T020000
TZNAME:CET
TZOFFSETFROM:+0200
TZOFFSETTO:+0100
END:STANDARD
END:VTIMEZONE
END:VCALENDAR
