BEGIN:VCALENDAR
VERSION:2.0
PRODID:-//Plone.org//NONSGML plone.app.event//EN
X-WR-TIMEZONE:Europe/Madrid
BEGIN:VEVENT
SUMMARY:David Haroutunian\, violin / Mikayel Hakhbazaryan\, violoncello / 
 Sofya Melikyan\, piano
DTSTART;TZID=Europe/Madrid;VALUE=DATE-TIME:20210720T200000
DTEND;TZID=Europe/Madrid;VALUE=DATE-TIME:20210720T213000
DTSTAMP;VALUE=DATE-TIME:20260419T155441Z
UID:a0f23b9a1bbf4a35b25f790885b3cb17@icas.sevilla.org
CATEGORIES:Música
CREATED;VALUE=DATE-TIME:20210720T095338Z
LAST-MODIFIED;VALUE=DATE-TIME:20231011T100607Z
URL:https://icas.sevilla.org/espacios/espacio-turina/agenda/david-haroutun
 ian-violin-mikayel-hakhbazaryan-violoncello-sofya-melikyan-piano
END:VEVENT
BEGIN:VTIMEZONE
TZID:Europe/Madrid
X-LIC-LOCATION:Europe/Madrid
BEGIN:DAYLIGHT
DTSTART;VALUE=DATE-TIME:20210328T030000
TZNAME:CEST
TZOFFSETFROM:+0100
TZOFFSETTO:+0200
END:DAYLIGHT
END:VTIMEZONE
END:VCALENDAR
