BEGIN:VCALENDAR
VERSION:2.0
PRODID:-//Plone.org//NONSGML plone.app.event//EN
X-WR-TIMEZONE:Europe/Madrid
BEGIN:VEVENT
SUMMARY:Diego Villegas & Electric Band
DTSTART;TZID=Europe/Madrid;VALUE=DATE-TIME:20210520T200000
DTEND;TZID=Europe/Madrid;VALUE=DATE-TIME:20210520T213000
DTSTAMP;VALUE=DATE-TIME:20260423T020849Z
UID:07996a572fe84b989f2d4ab6cfbca5ed@icas.sevilla.org
CATEGORIES:Música
CREATED;VALUE=DATE-TIME:20210413T145957Z
LAST-MODIFIED;VALUE=DATE-TIME:20231011T100607Z
LOCATION:Espacio Turina
URL:https://icas.sevilla.org/espacios/espacio-turina/agenda/diego-villegas
 -electric-band
END:VEVENT
BEGIN:VTIMEZONE
TZID:Europe/Madrid
X-LIC-LOCATION:Europe/Madrid
BEGIN:DAYLIGHT
DTSTART;VALUE=DATE-TIME:20210328T030000
TZNAME:CEST
TZOFFSETFROM:+0100
TZOFFSETTO:+0200
END:DAYLIGHT
END:VTIMEZONE
END:VCALENDAR
