BEGIN:VCALENDAR
VERSION:2.0
PRODID:-//Plone.org//NONSGML plone.app.event//EN
X-WR-TIMEZONE:Europe/Madrid
BEGIN:VEVENT
SUMMARY:Ensemble Correspondances
DTSTART;TZID=Europe/Madrid;VALUE=DATE-TIME:20230310T200000
DTEND;TZID=Europe/Madrid;VALUE=DATE-TIME:20230310T210000
DTSTAMP;VALUE=DATE-TIME:20260422T071750Z
UID:881bc13a1ad343b8b3cb751c88a2ba3e@icas.sevilla.org
CATEGORIES:Música Antigua
CREATED;VALUE=DATE-TIME:20230302T182035Z
DESCRIPTION:XL FeMÀS 2023
LAST-MODIFIED;VALUE=DATE-TIME:20231011T100612Z
URL:https://icas.sevilla.org/espacios/espacio-turina/agenda/ensemble-corre
 spondances
END:VEVENT
BEGIN:VTIMEZONE
TZID:Europe/Madrid
X-LIC-LOCATION:Europe/Madrid
BEGIN:STANDARD
DTSTART;VALUE=DATE-TIME:20221030T020000
TZNAME:CET
TZOFFSETFROM:+0200
TZOFFSETTO:+0100
END:STANDARD
END:VTIMEZONE
END:VCALENDAR
