BEGIN:VCALENDAR
VERSION:2.0
PRODID:-//Plone.org//NONSGML plone.app.event//EN
X-WR-TIMEZONE:Europe/Madrid
BEGIN:VEVENT
SUMMARY:Europa Galante / Gigi Pinardi / Fabio Biondi
DTSTART;TZID=Europe/Madrid;VALUE=DATE-TIME:20230513T200000
DTEND;TZID=Europe/Madrid;VALUE=DATE-TIME:20230513T220000
DTSTAMP;VALUE=DATE-TIME:20260425T191145Z
UID:6cc95f114af74bb28f7892aa0f7f3962@icas.sevilla.org
CATEGORIES:Música Antigua
CREATED;VALUE=DATE-TIME:20220915T112818Z
DESCRIPTION:Música Antigua
LAST-MODIFIED;VALUE=DATE-TIME:20231011T100611Z
LOCATION:Sala Silvio
URL:https://icas.sevilla.org/espacios/espacio-turina/agenda/europa-galante
END:VEVENT
BEGIN:VTIMEZONE
TZID:Europe/Madrid
X-LIC-LOCATION:Europe/Madrid
BEGIN:DAYLIGHT
DTSTART;VALUE=DATE-TIME:20230326T030000
TZNAME:CEST
TZOFFSETFROM:+0100
TZOFFSETTO:+0200
END:DAYLIGHT
END:VTIMEZONE
END:VCALENDAR
