BEGIN:VCALENDAR
VERSION:2.0
PRODID:-//Plone.org//NONSGML plone.app.event//EN
X-WR-TIMEZONE:Europe/Madrid
BEGIN:VEVENT
SUMMARY:Francisco Montero
DTSTART;TZID=Europe/Madrid;VALUE=DATE-TIME:20230308T200000
DTEND;TZID=Europe/Madrid;VALUE=DATE-TIME:20230308T220000
DTSTAMP;VALUE=DATE-TIME:20260423T140724Z
UID:11ab3b2142e24514ba01699d6e5becc9@icas.sevilla.org
CATEGORIES:Música de Cámara
CREATED;VALUE=DATE-TIME:20220914T081900Z
DESCRIPTION:Piano en Turina
LAST-MODIFIED;VALUE=DATE-TIME:20231011T100611Z
LOCATION:Sala Silvio
URL:https://icas.sevilla.org/espacios/espacio-turina/agenda/francisco-mont
 ero
END:VEVENT
BEGIN:VTIMEZONE
TZID:Europe/Madrid
X-LIC-LOCATION:Europe/Madrid
BEGIN:STANDARD
DTSTART;VALUE=DATE-TIME:20221030T020000
TZNAME:CET
TZOFFSETFROM:+0200
TZOFFSETTO:+0100
END:STANDARD
END:VTIMEZONE
END:VCALENDAR
