BEGIN:VCALENDAR
VERSION:2.0
PRODID:-//Plone.org//NONSGML plone.app.event//EN
X-WR-TIMEZONE:Europe/Madrid
BEGIN:VEVENT
SUMMARY:Gabriel Díaz contratenor / Alfonso Sebastián clave
DTSTART;TZID=Europe/Madrid;VALUE=DATE-TIME:20221115T200000
DTEND;TZID=Europe/Madrid;VALUE=DATE-TIME:20221115T220000
DTSTAMP;VALUE=DATE-TIME:20260423T172127Z
UID:01c3ac84560342a9b23291f694b14a8e@icas.sevilla.org
CATEGORIES:Música Antigua 
CREATED;VALUE=DATE-TIME:20220913T111422Z
DESCRIPTION:Música Antigua. Made in Sevilla
LAST-MODIFIED;VALUE=DATE-TIME:20231011T100610Z
LOCATION:Sala Silvio. Espacio Turina.
URL:https://icas.sevilla.org/espacios/espacio-turina/agenda/gabriel-diaz-y
 -alfonso-sebastian
END:VEVENT
BEGIN:VTIMEZONE
TZID:Europe/Madrid
X-LIC-LOCATION:Europe/Madrid
BEGIN:STANDARD
DTSTART;VALUE=DATE-TIME:20221030T020000
TZNAME:CET
TZOFFSETFROM:+0200
TZOFFSETTO:+0100
END:STANDARD
END:VTIMEZONE
END:VCALENDAR
