BEGIN:VCALENDAR
VERSION:2.0
PRODID:-//Plone.org//NONSGML plone.app.event//EN
X-WR-TIMEZONE:Europe/Madrid
BEGIN:VEVENT
SUMMARY:Gli Incogniti / Neven Lesage / Amandine Beyer
DTSTART;TZID=Europe/Madrid;VALUE=DATE-TIME:20230210T200000
DTEND;TZID=Europe/Madrid;VALUE=DATE-TIME:20230210T220000
DTSTAMP;VALUE=DATE-TIME:20260425T015426Z
UID:6ede32c80b5f44f9acb56b28452636cd@icas.sevilla.org
CATEGORIES:Música Antigua
CREATED;VALUE=DATE-TIME:20220914T100226Z
DESCRIPTION:Música Antigua.
LAST-MODIFIED;VALUE=DATE-TIME:20231011T100611Z
LOCATION:Sala Silvio
URL:https://icas.sevilla.org/espacios/espacio-turina/agenda/gli-incogniti
END:VEVENT
BEGIN:VTIMEZONE
TZID:Europe/Madrid
X-LIC-LOCATION:Europe/Madrid
BEGIN:STANDARD
DTSTART;VALUE=DATE-TIME:20221030T020000
TZNAME:CET
TZOFFSETFROM:+0200
TZOFFSETTO:+0100
END:STANDARD
END:VTIMEZONE
END:VCALENDAR
