BEGIN:VCALENDAR
VERSION:2.0
PRODID:-//Plone.org//NONSGML plone.app.event//EN
X-WR-TIMEZONE:Europe/Madrid
BEGIN:VEVENT
SUMMARY:MiXMONK
DTSTART;TZID=Europe/Madrid;VALUE=DATE-TIME:20221027T200000
DTEND;TZID=Europe/Madrid;VALUE=DATE-TIME:20221027T220000
DTSTAMP;VALUE=DATE-TIME:20260425T233109Z
UID:9e0c7662997649e1aa8562e0669270c5@icas.sevilla.org
CATEGORIES:Jazz
CREATED;VALUE=DATE-TIME:20220913T093417Z
DESCRIPTION:25 Festival de Jazz Universidad de Sevilla
LAST-MODIFIED;VALUE=DATE-TIME:20231011T100610Z
LOCATION:Sala Silvio. Espacio Turina.
URL:https://icas.sevilla.org/espacios/espacio-turina/agenda/joey-baron-tri
 o
END:VEVENT
BEGIN:VTIMEZONE
TZID:Europe/Madrid
X-LIC-LOCATION:Europe/Madrid
BEGIN:DAYLIGHT
DTSTART;VALUE=DATE-TIME:20220327T030000
TZNAME:CEST
TZOFFSETFROM:+0100
TZOFFSETTO:+0200
END:DAYLIGHT
END:VTIMEZONE
END:VCALENDAR
