BEGIN:VCALENDAR
VERSION:2.0
PRODID:-//Plone.org//NONSGML plone.app.event//EN
X-WR-TIMEZONE:Europe/Madrid
BEGIN:VEVENT
SUMMARY:Les Cornets Noires & Nuria Rial
DTSTART;TZID=Europe/Madrid;VALUE=DATE-TIME:20230312T200000
DTEND;TZID=Europe/Madrid;VALUE=DATE-TIME:20230312T210000
DTSTAMP;VALUE=DATE-TIME:20260423T185435Z
UID:d91a2091d02a4a0e960329a2acccb5b1@icas.sevilla.org
CATEGORIES:Música antigua
CREATED;VALUE=DATE-TIME:20230302T185643Z
DESCRIPTION:XL FeMÀS 2023
LAST-MODIFIED;VALUE=DATE-TIME:20231011T100612Z
URL:https://icas.sevilla.org/espacios/espacio-turina/agenda/les-cornets-no
 ires-nuria-rial
END:VEVENT
BEGIN:VTIMEZONE
TZID:Europe/Madrid
X-LIC-LOCATION:Europe/Madrid
BEGIN:STANDARD
DTSTART;VALUE=DATE-TIME:20221030T020000
TZNAME:CET
TZOFFSETFROM:+0200
TZOFFSETTO:+0100
END:STANDARD
END:VTIMEZONE
END:VCALENDAR
