BEGIN:VCALENDAR
VERSION:2.0
PRODID:-//Plone.org//NONSGML plone.app.event//EN
X-WR-TIMEZONE:Europe/Madrid
BEGIN:VEVENT
SUMMARY:Mandelring Quartett
DTSTART;TZID=Europe/Madrid;VALUE=DATE-TIME:20240112T200000
DTEND;TZID=Europe/Madrid;VALUE=DATE-TIME:20240112T210000
DTSTAMP;VALUE=DATE-TIME:20260424T042720Z
UID:ba7897d3f93e4ebb83955e5b99d70db1@icas.sevilla.org
CATEGORIES:música,música de cámara
CREATED;VALUE=DATE-TIME:20231103T133530Z
DESCRIPTION:Música de Cámara. Cuartetos de cuerda en Turina
LAST-MODIFIED;VALUE=DATE-TIME:20240110T130340Z
URL:https://icas.sevilla.org/espacios/espacio-turina/agenda/mandelring-qua
 rtett
END:VEVENT
BEGIN:VTIMEZONE
TZID:Europe/Madrid
X-LIC-LOCATION:Europe/Madrid
BEGIN:STANDARD
DTSTART;VALUE=DATE-TIME:20231029T020000
TZNAME:CET
TZOFFSETFROM:+0200
TZOFFSETTO:+0100
END:STANDARD
END:VTIMEZONE
END:VCALENDAR
