BEGIN:VCALENDAR
VERSION:2.0
PRODID:-//Plone.org//NONSGML plone.app.event//EN
X-WR-TIMEZONE:Europe/Madrid
BEGIN:VEVENT
SUMMARY:Miguel Domínguez Infante /Alexa Farré Brandkamp / Uta Kerner / A
 riadna Boiso Reinoso / Claudio R. Baraviera
DTSTART;TZID=Europe/Madrid;VALUE=DATE-TIME:20240121T120000
DTEND;TZID=Europe/Madrid;VALUE=DATE-TIME:20240121T130000
DTSTAMP;VALUE=DATE-TIME:20260423T113139Z
UID:b9c7ebdc6d374727a9a7c388601db444@icas.sevilla.org
CATEGORIES:Música de Cámara
CREATED;VALUE=DATE-TIME:20231110T102022Z
DESCRIPTION:XXXIV Ciclo de Música de Cámara. ROSS. Concierto 5.
LAST-MODIFIED;VALUE=DATE-TIME:20240119T072939Z
URL:https://icas.sevilla.org/espacios/espacio-turina/agenda/miguel-domingu
 ez-infante-alexa-farre-brandkamp-uta-kerner-ariadna-boiso-reinoso-claudio-
 r-baraviera
END:VEVENT
BEGIN:VTIMEZONE
TZID:Europe/Madrid
X-LIC-LOCATION:Europe/Madrid
BEGIN:STANDARD
DTSTART;VALUE=DATE-TIME:20231029T020000
TZNAME:CET
TZOFFSETFROM:+0200
TZOFFSETTO:+0100
END:STANDARD
END:VTIMEZONE
END:VCALENDAR
