BEGIN:VCALENDAR
VERSION:2.0
PRODID:-//Plone.org//NONSGML plone.app.event//EN
X-WR-TIMEZONE:Europe/Madrid
BEGIN:VEVENT
SUMMARY:Música en familia para niños y niñas con TEA
DTSTART;TZID=Europe/Madrid;VALUE=DATE-TIME:20231216T110000
DTEND;TZID=Europe/Madrid;VALUE=DATE-TIME:20231216T130000
DTSTAMP;VALUE=DATE-TIME:20260422T200116Z
UID:2cdafa4e47204a379c2aebd9a515a80d@icas.sevilla.org
CATEGORIES:Talleres musicales
CREATED;VALUE=DATE-TIME:20231030T124134Z
DESCRIPTION:Talleres musicales Fundación Barenboim-Said
LAST-MODIFIED;VALUE=DATE-TIME:20231030T124717Z
URL:https://icas.sevilla.org/espacios/espacio-turina/agenda/musica-en-fami
 lia-para-ninos-y-ninas-con-tea
END:VEVENT
BEGIN:VTIMEZONE
TZID:Europe/Madrid
X-LIC-LOCATION:Europe/Madrid
BEGIN:STANDARD
DTSTART;VALUE=DATE-TIME:20231029T020000
TZNAME:CET
TZOFFSETFROM:+0200
TZOFFSETTO:+0100
END:STANDARD
END:VTIMEZONE
END:VCALENDAR
