BEGIN:VCALENDAR
VERSION:2.0
PRODID:-//Plone.org//NONSGML plone.app.event//EN
X-WR-TIMEZONE:Europe/Madrid
BEGIN:VEVENT
SUMMARY:Orquesta Barroca de Sevilla
DTSTART;TZID=Europe/Madrid;VALUE=DATE-TIME:20240411T200000
DTEND;TZID=Europe/Madrid;VALUE=DATE-TIME:20240411T210000
DTSTAMP;VALUE=DATE-TIME:20260423T140847Z
UID:ce8e836cc137431d967c56c3cea43202@icas.sevilla.org
CATEGORIES:Música Antigua
CREATED;VALUE=DATE-TIME:20231130T135123Z
DESCRIPTION:Temporada 23-24 de la OBS\, orquesta residente del Espacio Tur
 ina. Concierto VI
LAST-MODIFIED;VALUE=DATE-TIME:20231130T135300Z
URL:https://icas.sevilla.org/espacios/espacio-turina/agenda/orquesta-barro
 ca-de-sevilla-3
END:VEVENT
BEGIN:VTIMEZONE
TZID:Europe/Madrid
X-LIC-LOCATION:Europe/Madrid
BEGIN:DAYLIGHT
DTSTART;VALUE=DATE-TIME:20240331T030000
TZNAME:CEST
TZOFFSETFROM:+0100
TZOFFSETTO:+0200
END:DAYLIGHT
END:VTIMEZONE
END:VCALENDAR
