BEGIN:VCALENDAR
VERSION:2.0
PRODID:-//Plone.org//NONSGML plone.app.event//EN
X-WR-TIMEZONE:Europe/Madrid
BEGIN:VEVENT
SUMMARY:Piano Trío Tres M
DTSTART;TZID=Europe/Madrid;VALUE=DATE-TIME:20221106T120000
DTEND;TZID=Europe/Madrid;VALUE=DATE-TIME:20221106T140000
DTSTAMP;VALUE=DATE-TIME:20260422T005529Z
UID:2106ed415a404e1db656c7828343f2db@icas.sevilla.org
CATEGORIES:Música de Cámara
CREATED;VALUE=DATE-TIME:20220913T103819Z
DESCRIPTION:Música de Cámara
LAST-MODIFIED;VALUE=DATE-TIME:20231011T100610Z
LOCATION:Sala Silvio. Espacio Turina.
URL:https://icas.sevilla.org/espacios/espacio-turina/agenda/piano-trio-tre
 s-m
END:VEVENT
BEGIN:VTIMEZONE
TZID:Europe/Madrid
X-LIC-LOCATION:Europe/Madrid
BEGIN:STANDARD
DTSTART;VALUE=DATE-TIME:20221030T020000
TZNAME:CET
TZOFFSETFROM:+0200
TZOFFSETTO:+0100
END:STANDARD
END:VTIMEZONE
END:VCALENDAR
