BEGIN:VCALENDAR
VERSION:2.0
PRODID:-//Plone.org//NONSGML plone.app.event//EN
X-WR-TIMEZONE:Europe/Madrid
BEGIN:VEVENT
SUMMARY:Rafael de Utrera cante / Pepe Fernández guitarra flamenca
DTSTART;TZID=Europe/Madrid;VALUE=DATE-TIME:20221015T200000
DTEND;TZID=Europe/Madrid;VALUE=DATE-TIME:20221015T220000
DTSTAMP;VALUE=DATE-TIME:20260419T215558Z
UID:bb0a3642c14546d5965371c879c141b7@icas.sevilla.org
CATEGORIES:Música de Cámara
CREATED;VALUE=DATE-TIME:20220913T082515Z
DESCRIPTION:XIII Festival de la Guitarra de Sevilla
LAST-MODIFIED;VALUE=DATE-TIME:20231011T100609Z
LOCATION:Sala Silvio
URL:https://icas.sevilla.org/espacios/espacio-turina/agenda/rafael-de-utre
 ra-y-pepe-fernandez
END:VEVENT
BEGIN:VTIMEZONE
TZID:Europe/Madrid
X-LIC-LOCATION:Europe/Madrid
BEGIN:DAYLIGHT
DTSTART;VALUE=DATE-TIME:20220327T030000
TZNAME:CEST
TZOFFSETFROM:+0100
TZOFFSETTO:+0200
END:DAYLIGHT
END:VTIMEZONE
END:VCALENDAR
