BEGIN:VCALENDAR
VERSION:2.0
PRODID:-//Plone.org//NONSGML plone.app.event//EN
X-WR-TIMEZONE:Europe/Madrid
BEGIN:VEVENT
SUMMARY:'Retrato\, Manuel Castillo (1930-2005)
DTSTART;TZID=Europe/Madrid;VALUE=DATE-TIME:20220216T200000
DTEND;TZID=Europe/Madrid;VALUE=DATE-TIME:20220216T213000
DTSTAMP;VALUE=DATE-TIME:20260425T222131Z
UID:7e4402b78fa64db1be10f1c807a4afb2@icas.sevilla.org
CATEGORIES:Música de cámara 
CREATED;VALUE=DATE-TIME:20210908T081939Z
LAST-MODIFIED;VALUE=DATE-TIME:20231011T100608Z
LOCATION:Espacio Turina
URL:https://icas.sevilla.org/espacios/espacio-turina/agenda/retrato-manuel
 -castillo-1930-2005
END:VEVENT
BEGIN:VTIMEZONE
TZID:Europe/Madrid
X-LIC-LOCATION:Europe/Madrid
BEGIN:STANDARD
DTSTART;VALUE=DATE-TIME:20211031T020000
TZNAME:CET
TZOFFSETFROM:+0200
TZOFFSETTO:+0100
END:STANDARD
END:VTIMEZONE
END:VCALENDAR
