BEGIN:VCALENDAR
VERSION:2.0
PRODID:-//Plone.org//NONSGML plone.app.event//EN
X-WR-TIMEZONE:Europe/Madrid
BEGIN:VEVENT
SUMMARY:Ruth Rosique y Bart van Oort: Haydn\, Mozart\, Beethoven\, García
DTSTART;TZID=Europe/Madrid;VALUE=DATE-TIME:20201020T203000
DTEND;TZID=Europe/Madrid;VALUE=DATE-TIME:20201020T220000
DTSTAMP;VALUE=DATE-TIME:20260426T040120Z
UID:a454c22b75ef412f86289766d35efc1b@icas.sevilla.org
CATEGORIES:Música
CREATED;VALUE=DATE-TIME:20200925T125655Z
LAST-MODIFIED;VALUE=DATE-TIME:20231011T100606Z
LOCATION:Sala Silvio
URL:https://icas.sevilla.org/espacios/espacio-turina/agenda/rosique-tur
END:VEVENT
BEGIN:VTIMEZONE
TZID:Europe/Madrid
X-LIC-LOCATION:Europe/Madrid
BEGIN:DAYLIGHT
DTSTART;VALUE=DATE-TIME:20200329T030000
TZNAME:CEST
TZOFFSETFROM:+0100
TZOFFSETTO:+0200
END:DAYLIGHT
END:VTIMEZONE
END:VCALENDAR
