BEGIN:VCALENDAR
VERSION:2.0
PRODID:-//Plone.org//NONSGML plone.app.event//EN
X-WR-TIMEZONE:Europe/Madrid
BEGIN:VEVENT
SUMMARY:Ensemble L'inégalité & Ensemble La Marianne
DTSTART;TZID=Europe/Madrid;VALUE=DATE-TIME:20230228T200000
DTEND;TZID=Europe/Madrid;VALUE=DATE-TIME:20230228T220000
DTSTAMP;VALUE=DATE-TIME:20260421T090035Z
UID:c6683486ebdb4cbaa23446c190bad1ba@icas.sevilla.org
CATEGORIES:Música Antigua
CREATED;VALUE=DATE-TIME:20220914T121417Z
DESCRIPTION:Sevilla HIP Ensembles. Pre-FeMÀS 23.
LAST-MODIFIED;VALUE=DATE-TIME:20231011T100611Z
URL:https://icas.sevilla.org/espacios/espacio-turina/agenda/segundo-concie
 rto-sevilla-hip-ensembles
END:VEVENT
BEGIN:VTIMEZONE
TZID:Europe/Madrid
X-LIC-LOCATION:Europe/Madrid
BEGIN:STANDARD
DTSTART;VALUE=DATE-TIME:20221030T020000
TZNAME:CET
TZOFFSETFROM:+0200
TZOFFSETTO:+0100
END:STANDARD
END:VTIMEZONE
END:VCALENDAR
