BEGIN:VCALENDAR
VERSION:2.0
PRODID:-//Plone.org//NONSGML plone.app.event//EN
X-WR-TIMEZONE:Europe/Madrid
BEGIN:VEVENT
SUMMARY:STILE ANTICO - The Path to Salvation
DTSTART;TZID=Europe/Madrid;VALUE=DATE-TIME:20220325T210000
DTEND;TZID=Europe/Madrid;VALUE=DATE-TIME:20220325T220000
DTSTAMP;VALUE=DATE-TIME:20260425T151416Z
UID:4d252e7988b341dd8dbce118057ee2d2@icas.sevilla.org
CATEGORIES:Música Antigua 
CREATED;VALUE=DATE-TIME:20220303T172847Z
DESCRIPTION:XXXIX FEMÀS 2022. MÚSICA ANTIGUA. ESPACIO TURINA
LAST-MODIFIED;VALUE=DATE-TIME:20231011T100609Z
URL:https://icas.sevilla.org/espacios/espacio-turina/agenda/stile-antico-t
 he-path-to-salvation
END:VEVENT
BEGIN:VTIMEZONE
TZID:Europe/Madrid
X-LIC-LOCATION:Europe/Madrid
BEGIN:STANDARD
DTSTART;VALUE=DATE-TIME:20211031T020000
TZNAME:CET
TZOFFSETFROM:+0200
TZOFFSETTO:+0100
END:STANDARD
END:VTIMEZONE
END:VCALENDAR
