BEGIN:VCALENDAR
VERSION:2.0
PRODID:-//Plone.org//NONSGML plone.app.event//EN
X-WR-TIMEZONE:Europe/Madrid
BEGIN:VEVENT
SUMMARY:El Felicissimo
DTSTART;TZID=Europe/Madrid;VALUE=DATE-TIME:20240221T200000
DTEND;TZID=Europe/Madrid;VALUE=DATE-TIME:20240221T210000
DTSTAMP;VALUE=DATE-TIME:20260421T104432Z
UID:b134148d0ed84f0a95ae7bb3e423ae34@icas.sevilla.org
CATEGORIES:Música Antigua
CREATED;VALUE=DATE-TIME:20231130T111907Z
DESCRIPTION:Sevilla HIP Ensembles. Tercer concierto Pre-FeMÀS 24
LAST-MODIFIED;VALUE=DATE-TIME:20240110T120101Z
URL:https://icas.sevilla.org/espacios/espacio-turina/agenda/tercer-concier
 to-1
END:VEVENT
BEGIN:VTIMEZONE
TZID:Europe/Madrid
X-LIC-LOCATION:Europe/Madrid
BEGIN:STANDARD
DTSTART;VALUE=DATE-TIME:20231029T020000
TZNAME:CET
TZOFFSETFROM:+0200
TZOFFSETTO:+0100
END:STANDARD
END:VTIMEZONE
END:VCALENDAR
