BEGIN:VCALENDAR
VERSION:2.0
PRODID:-//Plone.org//NONSGML plone.app.event//EN
X-WR-TIMEZONE:Europe/Madrid
BEGIN:VEVENT
SUMMARY:Una grieta en el muro. Cuento musical.
DTSTART;TZID=Europe/Madrid;VALUE=DATE-TIME:20220611T110000
DTEND;TZID=Europe/Madrid;VALUE=DATE-TIME:20220611T133000
DTSTAMP;VALUE=DATE-TIME:20260420T125726Z
UID:4aadfef94df849c1a5582ee0cf185147@icas.sevilla.org
CATEGORIES:Infantil,Música
CREATED;VALUE=DATE-TIME:20210917T082251Z
DESCRIPTION:Talleres musicales para escolares. Fundación Barenboim-Said
LAST-MODIFIED;VALUE=DATE-TIME:20231011T100608Z
LOCATION:Espacio Turina
URL:https://icas.sevilla.org/espacios/espacio-turina/agenda/una-grieta-en-
 el-muro-cuento-musical
END:VEVENT
BEGIN:VTIMEZONE
TZID:Europe/Madrid
X-LIC-LOCATION:Europe/Madrid
BEGIN:DAYLIGHT
DTSTART;VALUE=DATE-TIME:20220327T030000
TZNAME:CEST
TZOFFSETFROM:+0100
TZOFFSETTO:+0200
END:DAYLIGHT
END:VTIMEZONE
END:VCALENDAR
