BEGIN:VCALENDAR
VERSION:2.0
PRODID:-//Plone.org//NONSGML plone.app.event//EN
X-WR-TIMEZONE:Europe/Madrid
BEGIN:VEVENT
SUMMARY:Vandalia
DTSTART;TZID=Europe/Madrid;VALUE=DATE-TIME:20221216T200000
DTEND;TZID=Europe/Madrid;VALUE=DATE-TIME:20221216T220000
DTSTAMP;VALUE=DATE-TIME:20260421T193400Z
UID:d51b323b23c641a1bbabb8cd605b31fd@icas.sevilla.org
CATEGORIES:Música antigua 
CREATED;VALUE=DATE-TIME:20220913T130326Z
DESCRIPTION:Música Antigua. Made in Seville.
LAST-MODIFIED;VALUE=DATE-TIME:20231011T100610Z
LOCATION:Sala Silvio
URL:https://icas.sevilla.org/espacios/espacio-turina/agenda/vandalia
END:VEVENT
BEGIN:VTIMEZONE
TZID:Europe/Madrid
X-LIC-LOCATION:Europe/Madrid
BEGIN:STANDARD
DTSTART;VALUE=DATE-TIME:20221030T020000
TZNAME:CET
TZOFFSETFROM:+0200
TZOFFSETTO:+0100
END:STANDARD
END:VTIMEZONE
END:VCALENDAR
