BEGIN:VCALENDAR
VERSION:2.0
PRODID:-//Plone.org//NONSGML plone.app.event//EN
X-WR-TIMEZONE:Europe/Madrid
BEGIN:VEVENT
SUMMARY:Viaje al corazón de China para descubrir la leyenda del dragón
DTSTART;TZID=Europe/Madrid;VALUE=DATE-TIME:20240511T110000
DTEND;TZID=Europe/Madrid;VALUE=DATE-TIME:20240511T124500
DTSTAMP;VALUE=DATE-TIME:20260422T072837Z
UID:42b24271ffc340d9bf8e599bfb9d85de@icas.sevilla.org
CATEGORIES:Talleres musicales
CREATED;VALUE=DATE-TIME:20231201T101733Z
DESCRIPTION:Talleres musicales Fundación Barenboim-Said
LAST-MODIFIED;VALUE=DATE-TIME:20231201T101939Z
URL:https://icas.sevilla.org/espacios/espacio-turina/agenda/viaje-al-coraz
 on-de-china-para-descubrir-la-leyenda-del-dragon
END:VEVENT
BEGIN:VTIMEZONE
TZID:Europe/Madrid
X-LIC-LOCATION:Europe/Madrid
BEGIN:DAYLIGHT
DTSTART;VALUE=DATE-TIME:20240331T030000
TZNAME:CEST
TZOFFSETFROM:+0100
TZOFFSETTO:+0200
END:DAYLIGHT
END:VTIMEZONE
END:VCALENDAR
