BEGIN:VCALENDAR
VERSION:2.0
PRODID:-//Plone.org//NONSGML plone.app.event//EN
X-WR-TIMEZONE:Europe/Madrid
BEGIN:VEVENT
SUMMARY:Vivica Genaux / Marcos Madrigal
DTSTART;TZID=Europe/Madrid;VALUE=DATE-TIME:20240127T200000
DTEND;TZID=Europe/Madrid;VALUE=DATE-TIME:20240127T210000
DTSTAMP;VALUE=DATE-TIME:20260422T182318Z
UID:57fe263bb157434bb486807f01854340@icas.sevilla.org
CATEGORIES:Música vocal
CREATED;VALUE=DATE-TIME:20231110T105239Z
DESCRIPTION:Lied en Turina
LAST-MODIFIED;VALUE=DATE-TIME:20231110T105633Z
URL:https://icas.sevilla.org/espacios/espacio-turina/agenda/vivica-genaux-
 marcos-madrigal
END:VEVENT
BEGIN:VTIMEZONE
TZID:Europe/Madrid
X-LIC-LOCATION:Europe/Madrid
BEGIN:STANDARD
DTSTART;VALUE=DATE-TIME:20231029T020000
TZNAME:CET
TZOFFSETFROM:+0200
TZOFFSETTO:+0100
END:STANDARD
END:VTIMEZONE
END:VCALENDAR
