BEGIN:VCALENDAR
VERSION:2.0
PRODID:-//Plone.org//NONSGML plone.app.event//EN
X-WR-TIMEZONE:Europe/Madrid
BEGIN:VEVENT
SUMMARY:Vivica Genaux / Gigi Pinardi
DTSTART;TZID=Europe/Madrid;VALUE=DATE-TIME:20221119T200000
DTEND;TZID=Europe/Madrid;VALUE=DATE-TIME:20221119T210000
DTSTAMP;VALUE=DATE-TIME:20260424T043200Z
UID:0284774c925c46d0b467b0d04b98b681@icas.sevilla.org
CATEGORIES:Música vocal
CREATED;VALUE=DATE-TIME:20220913T114410Z
DESCRIPTION:Guitarra y Voz
LAST-MODIFIED;VALUE=DATE-TIME:20231011T100610Z
LOCATION:Sala Silvio. Espacio Turina.
URL:https://icas.sevilla.org/espacios/espacio-turina/agenda/vivica-genaux-
 y-gigi-pinardi
END:VEVENT
BEGIN:VTIMEZONE
TZID:Europe/Madrid
X-LIC-LOCATION:Europe/Madrid
BEGIN:STANDARD
DTSTART;VALUE=DATE-TIME:20221030T020000
TZNAME:CET
TZOFFSETFROM:+0200
TZOFFSETTO:+0100
END:STANDARD
END:VTIMEZONE
END:VCALENDAR
