BEGIN:VCALENDAR
VERSION:2.0
PRODID:-//Plone.org//NONSGML plone.app.event//EN
X-WR-TIMEZONE:Europe/Madrid
BEGIN:VEVENT
SUMMARY:X Concurso de Música de Cámara José Gámez II
DTSTART;TZID=Europe/Madrid;VALUE=DATE-TIME:20240409T160000
DTEND;TZID=Europe/Madrid;VALUE=DATE-TIME:20240409T210000
DTSTAMP;VALUE=DATE-TIME:20260423T064152Z
UID:0ba8b1da5e2b457292a65b6fb1e19fbc@icas.sevilla.org
CATEGORIES:CSMS MANUEL CASTILLO
CREATED;VALUE=DATE-TIME:20231130T134832Z
DESCRIPTION:Conservatorio Superior de Música Manuel Castillo
LAST-MODIFIED;VALUE=DATE-TIME:20231130T134848Z
URL:https://icas.sevilla.org/espacios/espacio-turina/agenda/x-concurso-de-
 musica-de-camara-jose-gamez-ii
END:VEVENT
BEGIN:VTIMEZONE
TZID:Europe/Madrid
X-LIC-LOCATION:Europe/Madrid
BEGIN:DAYLIGHT
DTSTART;VALUE=DATE-TIME:20240331T030000
TZNAME:CEST
TZOFFSETFROM:+0100
TZOFFSETTO:+0200
END:DAYLIGHT
END:VTIMEZONE
END:VCALENDAR
