BEGIN:VCALENDAR
VERSION:2.0
PRODID:-//Plone.org//NONSGML plone.app.event//EN
X-WR-TIMEZONE:Europe/Madrid
BEGIN:VEVENT
SUMMARY:XXXVIII FeMÀS. Enrike Solinís: 'Ars Lachrimae'
DTSTART;TZID=Europe/Madrid;VALUE=DATE-TIME:20210314T120000
DTEND;TZID=Europe/Madrid;VALUE=DATE-TIME:20210314T133000
DTSTAMP;VALUE=DATE-TIME:20260425T191543Z
UID:8d265439675a4fbcbf7a62c0ff56ceaf@icas.sevilla.org
CATEGORIES:Música
CREATED;VALUE=DATE-TIME:20210226T130712Z
LAST-MODIFIED;VALUE=DATE-TIME:20231011T100607Z
LOCATION:Espacio Turina
URL:https://icas.sevilla.org/espacios/espacio-turina/agenda/xxxviii-femas-
 enrike-solinis-ars-lachrimae
END:VEVENT
BEGIN:VTIMEZONE
TZID:Europe/Madrid
X-LIC-LOCATION:Europe/Madrid
BEGIN:STANDARD
DTSTART;VALUE=DATE-TIME:20201025T020000
TZNAME:CET
TZOFFSETFROM:+0200
TZOFFSETTO:+0100
END:STANDARD
END:VTIMEZONE
END:VCALENDAR
