BEGIN:VCALENDAR
VERSION:2.0
PRODID:-//Plone.org//NONSGML plone.app.event//EN
X-WR-TIMEZONE:Europe/Madrid
BEGIN:VEVENT
SUMMARY:XXXVIII FeMÀS. La Guirlande: 'Brama sañudo el viento'
DTSTART;TZID=Europe/Madrid;VALUE=DATE-TIME:20210318T183000
DTEND;TZID=Europe/Madrid;VALUE=DATE-TIME:20210318T200000
DTSTAMP;VALUE=DATE-TIME:20260423T023446Z
UID:d77e286028754aacb843dac80cd6feee@icas.sevilla.org
CATEGORIES:Música
CREATED;VALUE=DATE-TIME:20210226T131724Z
DESCRIPTION:En coproducción con el Centro Nacional de Difusión Musical.
LAST-MODIFIED;VALUE=DATE-TIME:20231011T100607Z
LOCATION:Espacio Turina
URL:https://icas.sevilla.org/espacios/espacio-turina/agenda/xxxviii-femas-
 la-guirlande-brama-sanudo-el-viento
END:VEVENT
BEGIN:VTIMEZONE
TZID:Europe/Madrid
X-LIC-LOCATION:Europe/Madrid
BEGIN:STANDARD
DTSTART;VALUE=DATE-TIME:20201025T020000
TZNAME:CET
TZOFFSETFROM:+0200
TZOFFSETTO:+0100
END:STANDARD
END:VTIMEZONE
END:VCALENDAR
