BEGIN:VCALENDAR
VERSION:2.0
PRODID:-//Plone.org//NONSGML plone.app.event//EN
X-WR-TIMEZONE:Europe/Madrid
BEGIN:VEVENT
SUMMARY:Café Gitano entre Libros: 'Con tres maletas. Gitanos en América'
DTSTART;TZID=Europe/Madrid;VALUE=DATE-TIME:20221209T170000
DTEND;TZID=Europe/Madrid;VALUE=DATE-TIME:20221209T180000
DTSTAMP;VALUE=DATE-TIME:20260423T142111Z
UID:471f11646a984377ad3788bd2464f9d1@icas.sevilla.org
CATEGORIES:Literatura
CREATED;VALUE=DATE-TIME:20221118T093516Z
LAST-MODIFIED;VALUE=DATE-TIME:20231011T100738Z
URL:https://icas.sevilla.org/espacios/factoria-cultural/agenda/cafe-gitano
 -entre-libros-con-tres-maletas-gitanos-en-almeria
END:VEVENT
BEGIN:VTIMEZONE
TZID:Europe/Madrid
X-LIC-LOCATION:Europe/Madrid
BEGIN:STANDARD
DTSTART;VALUE=DATE-TIME:20221030T020000
TZNAME:CET
TZOFFSETFROM:+0200
TZOFFSETTO:+0100
END:STANDARD
END:VTIMEZONE
END:VCALENDAR
