BEGIN:VCALENDAR
VERSION:2.0
PRODID:-//Plone.org//NONSGML plone.app.event//EN
X-WR-TIMEZONE:Europe/Madrid
BEGIN:VEVENT
SUMMARY:Concierto de Nakany Kanté
DTSTART;TZID=Europe/Madrid;VALUE=DATE-TIME:20210523T203000
DTEND;TZID=Europe/Madrid;VALUE=DATE-TIME:20210523T213000
DTSTAMP;VALUE=DATE-TIME:20260426T024418Z
UID:a7f38d973bf542909e5b831b9ba7c4e3@icas.sevilla.org
CATEGORIES:Música
CREATED;VALUE=DATE-TIME:20210512T100041Z
LAST-MODIFIED;VALUE=DATE-TIME:20231011T100737Z
LOCATION:Factoría Cultural
URL:https://icas.sevilla.org/espacios/factoria-cultural/agenda/concierto-d
 e-nakany-kante
END:VEVENT
BEGIN:VTIMEZONE
TZID:Europe/Madrid
X-LIC-LOCATION:Europe/Madrid
BEGIN:DAYLIGHT
DTSTART;VALUE=DATE-TIME:20210328T030000
TZNAME:CEST
TZOFFSETFROM:+0100
TZOFFSETTO:+0200
END:DAYLIGHT
END:VTIMEZONE
END:VCALENDAR
