BEGIN:VCALENDAR
VERSION:2.0
PRODID:-//Plone.org//NONSGML plone.app.event//EN
X-WR-TIMEZONE:Europe/Madrid
BEGIN:VEVENT
SUMMARY:Concierto en memoria de Bizco Amate ('Zona Flamenca')
DTSTART;TZID=Europe/Madrid;VALUE=DATE-TIME:20230512T210000
DTEND;TZID=Europe/Madrid;VALUE=DATE-TIME:20230512T220000
DTSTAMP;VALUE=DATE-TIME:20260425T222523Z
UID:42d5257d462b4629a1c24d7e66a73e12@icas.sevilla.org
CATEGORIES:Flamenco
CREATED;VALUE=DATE-TIME:20230410T151309Z
LAST-MODIFIED;VALUE=DATE-TIME:20231011T100739Z
LOCATION:C/ Fraternidad (Palmete)
URL:https://icas.sevilla.org/espacios/factoria-cultural/agenda/copy2_of_co
 ncierto-en-memoria-de-pepa-la-calzona-zona-flamenca
END:VEVENT
BEGIN:VTIMEZONE
TZID:Europe/Madrid
X-LIC-LOCATION:Europe/Madrid
BEGIN:DAYLIGHT
DTSTART;VALUE=DATE-TIME:20230326T030000
TZNAME:CEST
TZOFFSETFROM:+0100
TZOFFSETTO:+0200
END:DAYLIGHT
END:VTIMEZONE
END:VCALENDAR
