BEGIN:VCALENDAR
VERSION:2.0
PRODID:-//Plone.org//NONSGML plone.app.event//EN
X-WR-TIMEZONE:Europe/Madrid
BEGIN:VEVENT
SUMMARY:Curso Auxiliar de Gestión de Sala y Producción de Espectáculos 
 en Vivo
DTSTART;TZID=Europe/Madrid;VALUE=DATE-TIME:20210721T110000
DTEND;TZID=Europe/Madrid;VALUE=DATE-TIME:20210902T235500
DTSTAMP;VALUE=DATE-TIME:20260422T113356Z
UID:56edc7e732f54e7ba81d7cd40aeb19e8@icas.sevilla.org
CREATED;VALUE=DATE-TIME:20210721T094152Z
LAST-MODIFIED;VALUE=DATE-TIME:20231011T100737Z
LOCATION:Factoría Cultural
URL:https://icas.sevilla.org/espacios/factoria-cultural/agenda/curso-auxil
 iar-de-gestion-de-sala-y-produccion-de-espectaculos-en-vivo
END:VEVENT
BEGIN:VTIMEZONE
TZID:Europe/Madrid
X-LIC-LOCATION:Europe/Madrid
BEGIN:DAYLIGHT
DTSTART;VALUE=DATE-TIME:20210328T030000
TZNAME:CEST
TZOFFSETFROM:+0100
TZOFFSETTO:+0200
END:DAYLIGHT
END:VTIMEZONE
END:VCALENDAR
