BEGIN:VCALENDAR
VERSION:2.0
PRODID:-//Plone.org//NONSGML plone.app.event//EN
X-WR-TIMEZONE:Europe/Madrid
BEGIN:VEVENT
SUMMARY:El Junco\, con Fuera de Serie y Petete
DTSTART;TZID=Europe/Madrid;VALUE=DATE-TIME:20210908T210000
DTEND;TZID=Europe/Madrid;VALUE=DATE-TIME:20210908T220000
DTSTAMP;VALUE=DATE-TIME:20260419T155417Z
UID:e16656c64fca49e1818cfa665208921e@icas.sevilla.org
CATEGORIES:Flamenco,Danza 
CREATED;VALUE=DATE-TIME:20210907T073802Z
LAST-MODIFIED;VALUE=DATE-TIME:20231011T100737Z
LOCATION:Factoría Cultural
URL:https://icas.sevilla.org/espacios/factoria-cultural/agenda/el-junco-co
 n-fuera-de-serie-y-petete
END:VEVENT
BEGIN:VTIMEZONE
TZID:Europe/Madrid
X-LIC-LOCATION:Europe/Madrid
BEGIN:DAYLIGHT
DTSTART;VALUE=DATE-TIME:20210328T030000
TZNAME:CEST
TZOFFSETFROM:+0100
TZOFFSETTO:+0200
END:DAYLIGHT
END:VTIMEZONE
END:VCALENDAR
