BEGIN:VCALENDAR
VERSION:2.0
PRODID:-//Plone.org//NONSGML plone.app.event//EN
X-WR-TIMEZONE:Europe/Madrid
BEGIN:VEVENT
SUMMARY:'Alalá' (Remedios Malvarez\, 2016) (Proyección en la Fundación 
 Tres Culturas)
DTSTART;TZID=Europe/Madrid;VALUE=DATE-TIME:20220726T203000
DTEND;TZID=Europe/Madrid;VALUE=DATE-TIME:20220726T224500
DTSTAMP;VALUE=DATE-TIME:20260423T142153Z
UID:4740cca67b8f48baac9bcc59bcc37588@icas.sevilla.org
CATEGORIES:Cine
CREATED;VALUE=DATE-TIME:20220701T131230Z
DESCRIPTION:Cine Gitano de Verano
LAST-MODIFIED;VALUE=DATE-TIME:20231011T100738Z
LOCATION:Fundación Tres Culturas del Mediterráneo
URL:https://icas.sevilla.org/espacios/factoria-cultural/agenda/entre-dos-a
 guas-isaki-lacuesta-2018
END:VEVENT
BEGIN:VTIMEZONE
TZID:Europe/Madrid
X-LIC-LOCATION:Europe/Madrid
BEGIN:DAYLIGHT
DTSTART;VALUE=DATE-TIME:20220327T030000
TZNAME:CEST
TZOFFSETFROM:+0100
TZOFFSETTO:+0200
END:DAYLIGHT
END:VTIMEZONE
END:VCALENDAR
