BEGIN:VCALENDAR
VERSION:2.0
PRODID:-//Plone.org//NONSGML plone.app.event//EN
X-WR-TIMEZONE:Europe/Madrid
BEGIN:VEVENT
SUMMARY:Espectáculo flamenco
DTSTART;TZID=Europe/Madrid;VALUE=DATE-TIME:20220907T210000
DTEND;TZID=Europe/Madrid;VALUE=DATE-TIME:20220907T220000
DTSTAMP;VALUE=DATE-TIME:20260423T172051Z
UID:feb805fbd8b04e71a8d40b1b26f7bf32@icas.sevilla.org
CATEGORIES:Flamenco
CREATED;VALUE=DATE-TIME:20220825T165915Z
LAST-MODIFIED;VALUE=DATE-TIME:20231011T100738Z
LOCATION:Asociación de Vecinos Solidaridad
URL:https://icas.sevilla.org/espacios/factoria-cultural/agenda/espectaculo
 -flamenco
END:VEVENT
BEGIN:VTIMEZONE
TZID:Europe/Madrid
X-LIC-LOCATION:Europe/Madrid
BEGIN:DAYLIGHT
DTSTART;VALUE=DATE-TIME:20220327T030000
TZNAME:CEST
TZOFFSETFROM:+0100
TZOFFSETTO:+0200
END:DAYLIGHT
END:VTIMEZONE
END:VCALENDAR
