BEGIN:VCALENDAR
VERSION:2.0
PRODID:-//Plone.org//NONSGML plone.app.event//EN
X-WR-TIMEZONE:Europe/Madrid
BEGIN:VEVENT
SUMMARY:'Papusza' (Joanna Kos-Krauze y Krzysztof Krauze\, 2013) (Proyecci
 ón en la Diputación Provincial)
DTSTART;TZID=Europe/Madrid;VALUE=DATE-TIME:20220731T220000
DTEND;TZID=Europe/Madrid;VALUE=DATE-TIME:20220731T230000
DTSTAMP;VALUE=DATE-TIME:20260423T084311Z
UID:5f0f91068e34495ab6c2cc310fcda402@icas.sevilla.org
CATEGORIES:Cine
CREATED;VALUE=DATE-TIME:20220701T131548Z
DESCRIPTION:Cine Gitano de Verano
LAST-MODIFIED;VALUE=DATE-TIME:20231011T100738Z
LOCATION:Diputación Provincial
URL:https://icas.sevilla.org/espacios/factoria-cultural/agenda/papusza-joa
 nna-kos-krauze-y-krzysztof-krauze-2013
END:VEVENT
BEGIN:VTIMEZONE
TZID:Europe/Madrid
X-LIC-LOCATION:Europe/Madrid
BEGIN:DAYLIGHT
DTSTART;VALUE=DATE-TIME:20220327T030000
TZNAME:CEST
TZOFFSETFROM:+0100
TZOFFSETTO:+0200
END:DAYLIGHT
END:VTIMEZONE
END:VCALENDAR
