BEGIN:VCALENDAR
VERSION:2.0
PRODID:-//Plone.org//NONSGML plone.app.event//EN
X-WR-TIMEZONE:Europe/Madrid
BEGIN:VEVENT
SUMMARY:Presentación de la novela 'La maestra gitana' ('Café Gitano entr
 e Libros')
DTSTART;TZID=Europe/Madrid;VALUE=DATE-TIME:20230510T180000
DTEND;TZID=Europe/Madrid;VALUE=DATE-TIME:20230510T190000
DTSTAMP;VALUE=DATE-TIME:20260420T175121Z
UID:593d687ff871455c9f89c603c026dbeb@icas.sevilla.org
CATEGORIES:Literatura
CREATED;VALUE=DATE-TIME:20230503T144204Z
LAST-MODIFIED;VALUE=DATE-TIME:20231011T100739Z
URL:https://icas.sevilla.org/espacios/factoria-cultural/agenda/presentacio
 n-de-la-novela-la-maestra-gitana-cafe-gitano-entre-libros
END:VEVENT
BEGIN:VTIMEZONE
TZID:Europe/Madrid
X-LIC-LOCATION:Europe/Madrid
BEGIN:DAYLIGHT
DTSTART;VALUE=DATE-TIME:20230326T030000
TZNAME:CEST
TZOFFSETFROM:+0100
TZOFFSETTO:+0200
END:DAYLIGHT
END:VTIMEZONE
END:VCALENDAR
