BEGIN:VCALENDAR
VERSION:2.0
PRODID:-//Plone.org//NONSGML plone.app.event//EN
X-WR-TIMEZONE:Europe/Madrid
BEGIN:VEVENT
SUMMARY:'Clownti'. Cía. JABRÚ TEATRO DE TÍTERES. Colombia
DTSTART;TZID=Europe/Madrid;VALUE=DATE-TIME:20230518T110000
DTEND;TZID=Europe/Madrid;VALUE=DATE-TIME:20230518T120000
DTSTAMP;VALUE=DATE-TIME:20260425T151754Z
UID:7903cfe1ab9747149e9e8f38295cd815@icas.sevilla.org
CATEGORIES:Teatro infantil y familiar
CREATED;VALUE=DATE-TIME:20230418T100421Z
DESCRIPTION:Feria Internacional del Títere de Sevilla
LAST-MODIFIED;VALUE=DATE-TIME:20231011T100756Z
LOCATION:Factoría Cultural y Centro Cívico Bellavista
URL:https://icas.sevilla.org/espacios/teatro-alameda/agenda/clownti-cia-ja
 bru-teatro-de-titeres-colombia
END:VEVENT
BEGIN:VTIMEZONE
TZID:Europe/Madrid
X-LIC-LOCATION:Europe/Madrid
BEGIN:DAYLIGHT
DTSTART;VALUE=DATE-TIME:20230326T030000
TZNAME:CEST
TZOFFSETFROM:+0100
TZOFFSETTO:+0200
END:DAYLIGHT
END:VTIMEZONE
END:VCALENDAR
