BEGIN:VCALENDAR
VERSION:2.0
PRODID:-//Plone.org//NONSGML plone.app.event//EN
X-WR-TIMEZONE:Europe/Madrid
BEGIN:VEVENT
SUMMARY:El triciclo de los títeres. Cía. Teatro de las Maravillas. Sevil
 la.
DTSTART;TZID=Europe/Madrid;VALUE=DATE-TIME:20201220T133000
DTEND;TZID=Europe/Madrid;VALUE=DATE-TIME:20201220T140000
DTSTAMP;VALUE=DATE-TIME:20260425T015029Z
UID:d3737952f21b4686b4c5397824ee46b4@icas.sevilla.org
CATEGORIES:Artes escénicas,infantil
CREATED;VALUE=DATE-TIME:20201130T174509Z
LAST-MODIFIED;VALUE=DATE-TIME:20231011T100751Z
LOCATION:Espacio Santa Clara
URL:https://icas.sevilla.org/espacios/teatro-alameda/agenda/copy2_of_el-tr
 iciclo-de-los-titeres
END:VEVENT
BEGIN:VTIMEZONE
TZID:Europe/Madrid
X-LIC-LOCATION:Europe/Madrid
BEGIN:STANDARD
DTSTART;VALUE=DATE-TIME:20201025T020000
TZNAME:CET
TZOFFSETFROM:+0200
TZOFFSETTO:+0100
END:STANDARD
END:VTIMEZONE
END:VCALENDAR
