BEGIN:VCALENDAR
VERSION:2.0
PRODID:-//Plone.org//NONSGML plone.app.event//EN
X-WR-TIMEZONE:Europe/Madrid
BEGIN:VEVENT
SUMMARY:'Las Cotton'. Cía. Anita Maravillas. Pais Vasco
DTSTART;TZID=Europe/Madrid;VALUE=DATE-TIME:20220305T123000
DTEND;TZID=Europe/Madrid;VALUE=DATE-TIME:20220305T133000
DTSTAMP;VALUE=DATE-TIME:20260419T204107Z
UID:f536f05f141043d8989e6bb28077d794@icas.sevilla.org
CATEGORIES:Títeres
CREATED;VALUE=DATE-TIME:20210903T071952Z
LAST-MODIFIED;VALUE=DATE-TIME:20231011T100753Z
LOCATION:Teatro Alameda
URL:https://icas.sevilla.org/espacios/teatro-alameda/agenda/copy2_of_las-c
 otton-cia-anita-maravillas-pais-vasco
END:VEVENT
BEGIN:VTIMEZONE
TZID:Europe/Madrid
X-LIC-LOCATION:Europe/Madrid
BEGIN:STANDARD
DTSTART;VALUE=DATE-TIME:20211031T020000
TZNAME:CET
TZOFFSETFROM:+0200
TZOFFSETTO:+0100
END:STANDARD
END:VTIMEZONE
END:VCALENDAR
