BEGIN:VCALENDAR
VERSION:2.0
PRODID:-//Plone.org//NONSGML plone.app.event//EN
X-WR-TIMEZONE:Europe/Madrid
BEGIN:VEVENT
SUMMARY:'Las pequeñas cosas'. Cía La Mecánica. Islas Baleares
DTSTART;TZID=Europe/Madrid;VALUE=DATE-TIME:20211023T180000
DTEND;TZID=Europe/Madrid;VALUE=DATE-TIME:20211023T190000
DTSTAMP;VALUE=DATE-TIME:20260423T021243Z
UID:81aca1f5e1f649d48dc683c28f2f1082@icas.sevilla.org
CATEGORIES:Teatro,Títeres,Danza
CREATED;VALUE=DATE-TIME:20210902T071058Z
LAST-MODIFIED;VALUE=DATE-TIME:20231011T100752Z
LOCATION:Teatro Alameda
URL:https://icas.sevilla.org/espacios/teatro-alameda/agenda/copy3_of_las-p
 equenas-cosas-cia-la-mecanica-islas-baleares
END:VEVENT
BEGIN:VTIMEZONE
TZID:Europe/Madrid
X-LIC-LOCATION:Europe/Madrid
BEGIN:DAYLIGHT
DTSTART;VALUE=DATE-TIME:20210328T030000
TZNAME:CEST
TZOFFSETFROM:+0100
TZOFFSETTO:+0200
END:DAYLIGHT
END:VTIMEZONE
END:VCALENDAR
