BEGIN:VCALENDAR
VERSION:2.0
PRODID:-//Plone.org//NONSGML plone.app.event//EN
X-WR-TIMEZONE:Europe/Madrid
BEGIN:VEVENT
SUMMARY:'Castigo de Dios'. Cía. Danza Mobile. Sevilla
DTSTART;TZID=Europe/Madrid;VALUE=DATE-TIME:20211015T100000
DTEND;TZID=Europe/Madrid;VALUE=DATE-TIME:20211015T105000
DTSTAMP;VALUE=DATE-TIME:20260426T040536Z
UID:54d84868f6714af6aacc3ab92de9d797@icas.sevilla.org
CATEGORIES:Teatro,Clown
CREATED;VALUE=DATE-TIME:20210902T070359Z
LAST-MODIFIED;VALUE=DATE-TIME:20231011T100752Z
LOCATION:Teatro Alameda
URL:https://icas.sevilla.org/espacios/teatro-alameda/agenda/copy_of_castig
 o-de-dios-cia-danza-mobile-sevilla
END:VEVENT
BEGIN:VTIMEZONE
TZID:Europe/Madrid
X-LIC-LOCATION:Europe/Madrid
BEGIN:DAYLIGHT
DTSTART;VALUE=DATE-TIME:20210328T030000
TZNAME:CEST
TZOFFSETFROM:+0100
TZOFFSETTO:+0200
END:DAYLIGHT
END:VTIMEZONE
END:VCALENDAR
